Workbook
Name diploma: #REF!
Name diploma: #REF!
Name diploma: #REF!
Name diploma: #REF!
Name diploma: #REF!
Name diploma: #REF!
Name diploma: #REF!
Name diploma: #REF!
Name diploma: #REF!
Name diploma: #REF!
Name diploma: #REF!
Name diploma: #REF!
Name diploma: #REF!
Name diploma: #REF!
Name diploma: #REF!
Name diploma: #REF!
Name diploma: #REF!

Sheet Menu
A2: AKREDITASI PROGRAM STUDI
A3: LEMBAGA AKREDITASI MANDIRI PARIWISATA
C5: Nama Program Studi | G5: : | H5: Ekonomi Syariah
C7: Jenis Program | G7: :
H9: Diploma Tiga
H10: Sarjana
H11: Sarjana Terapan
H12: Magister
H13: Magister Terapan
H14: Doktor
H15: Doktor Terapan
C17: Peringkat Akreditasi PS | G17: : | K17: =IF(H17="Minimum","Studi telah mendapt ijin pembukaan program studi baru. Pengajuan usulan akreditasi pertama","")
H19: Unggul
H20: A
H21: Baik Sekali
H22: B
H23: Baik
H24: C
H25: Minimum
C27: Nomor SK BAN-PT | G27: :
C29: Tanggal Kadaluarsa | G29: :
C31: Nama Unit Pengelola | G31: : | H31: Lia
C33: Nama Perguruan Tinggi | G33: : | H33: Institut Agama Islam Abuya Salek Sarolangun
H36: Perguruan Tinggi Negeri - Satker
H37: Perguruan Tinggi Negeri - Badan Layanan Umum
H38: Perguruan Tinggi Negeri - Badan Hukum
H39: Perguruan Tinggi Swasta
C41: Alamat | G41: :
H45: Kota/Kabupaten : | U45: Kode Pos :
C47: Nomor Telepon | G47: :
C49: E-mail | G49: :
C51: Website | G51: :
C53: TS *) | G53: : | H53: 2026 | I53: / | J53: 2027
O57: Nama Pengusul | R57: :
B59: *) TS = Tahun akademik penuh terakhir saat pengajuan usulan akreditasi | O59: Tanggal | R59: :
B60: lamwisata | C60: 140326

Sheet Daftar Tabel
A1: DAFTAR TABEL - LAPORAN KINERJA PROGRAM STUDI
A3: No | B3: Nomor dan Judul Tabel
A4: 1 | B4: Menu
A5: 2 | B5: Tabel Daftar Program Studi di Unit Pengelola Program Studi
A6: 3 | B6: Tabel 1) Dosen Tetap Perguruan Tinggi
A7: 4 | B7: Tabel 2) Dosen Industri/Praktisi
A8: 5 | B8: Tabel 3) Dosen Tidak Tetap
A9: 6 | B9: Tabel 4) Kurikulum, Capaian Pembelajaran, dan Rencana Pembelajaran
A10: 7 | B10: Tabel 5) Dosen Pembimbing Utama Tugas Akhir
A11: 8 | B11: Tabel 6) Ekuivalen Waktu Mengajar Penuh (EWMP) Dosen Tetap Perguruan Tinggi
A12: 9 | B12: Tabel 7a) Prestasi Akademik Mahasiswa
A13: 10 | B13: Tabel 7b) Prestasi Non-akademik Mahasiswa
A14: 11 | B14: Tabel 8) IPK Lulusan
A15: 12 | B15: Tabel 9) Masa Studi Lulusan
... A40: 37 | B40: Tabel 23) Pengakuan/Rekognisi Dosen

Sheet PS
A1: Tabel Daftar Program Studi di Unit Pengelola Program Studi (UPPS)
B3: Status/Peringkat
B5: Terakreditasi Unggul
B6: Terakreditasi A
B7: Terakreditasi Baik Sekali
B8: Terakreditasi B
B9: Terakreditasi Baik
B10: Terakreditasi C
B11: Terakreditasi Minimum
B12: Tidak Terakreditasi
A14: No | B14: Jenis Program | C14: Nama Program Studi | D14: Akreditasi Program Studi | G14: Jumlah Mahasiswa saat TS
D15: Status/ Peringkat | E15: No. dan Tgl. SK | F15: Tgl. Kadaluarsa
A16: 1 | B16: 2 | C16: 2 | D16: 3 | F16: 4 | G16: 8
A17: 1
A18: 2
A19: 3
A20: 4

Sheet Tabel 1
A1: Tabel 1) Dosen Tetap Perguruan Tinggi
I3: Check | J3: JA
I5: V | J5: Tenaga Pengajar
J6: Asisten Ahli
J7: Lektor
J8: Lektor Kepala
J9: Guru Besar
A11: No. | B11: Nama Dosen | C11: NIDN/ NIDK | D11: Pendidikan Dasar (D1,D2,D3,ST/S1) | E11: Pendidikan Pasca Sarjana | G11: Terdaftar di PD Dikti (DT) | H11: Bidang Keahlian | I11: Kesesuaian dengan Kompetensi Inti PS (DTPS) | J11: Jabatan Akademik | K11: Sertifikat Pendidik Profesional | L11: Sertifikat Kompetensi/ Profesi/ Industri | M11: Mata Kuliah yang Diampu pada PS yang Diakreditasi | N11: Kesesuaian Bidang Keahlian dengan Mata Kuliah yang Diampu | O11: Mata Kuliah yang Diampu pada PS Lain
E12: Magister/ Magister Terapan/ Spesialis | F12: Doktor/ Doktor Terapan/ Spesialis
A13: 1 | B13: 2 | C13: 3 | D13: 4 | E13: 5 | G13: 6 | H13: 7 | I13: 8 | J13: 9 | K13: 10 | L13: 11 | M13: 12 | N13: 13 | O13: 14
A14: 1
A15: 2
A16: 3
A17: 4
A18: 5
A19: 6
A20: 7
A21: 8
A22: 9
A23: 10
A24: 11
A25: 12
B28: Catatan:
B30: Jumlah Mahasiswa (student body) pada saat TS

Sheet Tabel 2
A1: Tabel 2) Dosen Industri/Praktisi | J1: <<< Daftar Tabel
A3: Diisi oleh pengusul dari Program Studi pada program Diploma 1/Diploma 2/Diploma Tiga/Sarjana Terapan/Magister Terapan/Doktor Terapan
A4: No. | B4: Nama Dosen Industri/Praktisi | C4: NIDK | D4: Perusahaan/ Industri | E4: Pendidikan Tertinggi | F4: Bidang Keahlian | G4: Sertifikat Profesi/ Kompetensi/ Industri | H4: Mata Kuliah yang Diampu | I4: Bobot Kredit (sks)
A5: 1 | B5: 2 | C5: 3 | D5: 4 | E5: 5 | F5: 6 | G5: 7 | H5: 8 | I5: 9
A6: 1
A7: 2
A8: 3
A9: 4
A10: 5
A11: …

Sheet Tabel 3
A1: Tabel 3) Dosen Tidak Tetap
F3: JA
F5: Tenaga Pengajar
F6: Asisten Ahli
F7: Lektor
F8: Lektor Kepala
F9: Guru Besar
A11: No. | B11: Nama Dosen | C11: NIDN/NIDK | D11: Pendidikan Pasca Sarjana | E11: Bidang Keahlian | F11: Jabatan Akademik | G11: Sertifikat Pendidik Profesional | H11: Sertifikat Kompetensi/ Profesi/ Industri | I11: Mata Kuliah yang Diampu pada PS yang Diakreditasi | J11: Kesesuaian Bidang Keahlian dengan Mata Kuliah yang Diampu
A12: 1 | B12: 2 | C12: 3 | D12: 4 | E12: 5 | F12: 6 | G12: 7 | H12: 8 | I12: 9 | J12: 10
A13: 1
A14: 2
A15: 3
A16: 4
A17: 5
A18: …
H19: Rata-rata DTPT
H20: Rata-rata DTPS

Sheet Tabel 4
A1: Tabel 5.a Kurikulum, Capaian Pembelajaran, dan Rencana Pembelajaran
A3: Check
A5: V
A7: No. | B7: Semester | C7: Kode Mata Kuliah | D7: Nama Mata Kuliah | E7: Mata Kuliah Kompetensi | F7: Bobot Kredit (sks) | I7: Konversi Kredit ke Jam | J7: Capaian Pembelajaran | N7: Dokumen Rencana Pembela-jaran | O7: Unit Penyeleng-gara
F8: Kuliah/ Responsi/ Tutorial | G8: Seminar | H8: Praktikum/ Praktik/ Praktik Lapangan | J8: Sikap | K8: Pengeta-huan | L8: Keteram-pilan Umum | M8: Keteram-pilan Khusus
A9: 1 | B9: 2 | C9: 3 | D9: 4 | E9: 5 | F9: 6 | G9: 7 | H9: 8 | I9: 9 | J9: 10 | K9: 11 | L9: 12 | M9: 13 | N9: 14 | O9: 15

Sheet Tabel 5
A1: Tabel 5) Dosen Pembimbing Utama Tugas Akhir
A3: No. | B3: Nama Dosen | C3: Jumlah Mahasiswa yang Dibimbing | K3: Rata-rata Jumlah Bimbingan di semua Program/ Semester
C4: pada PS yang Diakreditasi | G4: pada PS Lain di PT
C5: TS-2 | D5: TS-1 | E5: TS | F5: Rata-rata | G5: TS-2 | H5: TS-1 | I5: TS | J5: Rata-rata
A6: 1 | B6: 2 | C6: 3 | D6: 4 | E6: 5 | F6: 6 | G6: 7 | H6: 8 | I6: 9 | J6: 10 | K6: 11
A7: 1
A8: 2
A9: 3
A10: 4
A11: 5
A12: 6
A13: 7
A14: 8
A15: 9
A16: 10
A17: 11
A18: 12

Sheet Tabel 6
A1: Tabel 6) Ekuivalen Waktu Mengajar Penuh (EWMP) Dosen Tetap Perguruan Tinggi
B3: Check
B5: V
A7: No. | B7: Nama Dosen (DT) | C7: DTPS | D7: Ekuivalen Waktu Mengajar Penuh (EWMP) pada saat TS dalam satuan kredit semester (sks) | J7: Jumlah (sks) | K7: Rata-rata per Semester (sks)
D8: Pendidikan: Pembelajaran dan Pembimbingan | G8: Penelitian | H8: PkM | I8: Tugas Tambahan dan/atau Penunjang
D9: PS yang Diakreditasi | E9: PS Lain di dalam PT | F9: PS Lain di luar PT
A10: 1 | B10: 2 | C10: 3 | D10: 4 | E10: 5 | F10: 6 | G10: 7 | H10: 8 | I10: 9 | J10: 10 | K10: 11
A11: 1
A12: 2
A13: 3
A14: 4
A15: 5
A16: 6
A17: 7
A18: 8
A19: 9
A20: 10
A21: 11
A22: 12

Sheet Tabel 7a
A1: Tabel 7a) Prestasi Akademik Mahasiswa
B3: Check
B5: V
A7: No. | B7: Nama Kegiatan | C7: Waktu Perolehan (YYYY) | D7: Tingkat | G7: Prestasi yang Dicapai
D8: Lokal/ Wilayah | E8: Nasio-nal | F8: Interna-sional
A9: 1 | B9: 2 | C9: 3 | D9: 4 | E9: 5 | F9: 6 | G9: 7
A10: 1
A11: 2
A12: 3
A13: 4
A14: 5
A15: 6
A16: 7
A17: 8
A18: 9
A19: 10
A20: 11
A21: 12
... A24: 15

Sheet Tabel 7b
A1: Tabel 7b) Prestasi Non-akademik Mahasiswa
A3: Diisi oleh pengusul dari Program Studi pada program Diploma 1/Diploma 2/Diploma Tiga/Sarjana/Sarjana Terapan
B4: Check
B6: V
A8: No. | B8: Nama Kegiatan | C8: Waktu Perolehan (YYYY) | D8: Tingkat | G8: Prestasi yang Dicapai
D9: Lokal/ Wilayah | E9: Nasio-nal | F9: Interna-sional
A10: 1 | B10: 2 | C10: 3 | D10: 4 | E10: 5 | F10: 6 | G10: 7
A11: 1
A12: 2
A13: 3
A14: 4
A15: 5
A16: 6
A17: 7
A18: 8
A19: 9
A20: 10
A21: 11
A22: 12
... A41: 31

Sheet Tabel 8
A1: Tabel 8) IPK Lulusan
A3: No. | B3: Tahun Lulus | C3: Jumlah Lulusan | D3: Indeks Prestasi Kumulatif
D4: Min. | E4: Rata-rata | F4: Maks
A5: 1 | B5: 2 | C5: 3 | D5: 4 | E5: 5 | F5: 6
A6: 1 | B6: TS-2
A7: 2 | B7: TS-1
A8: 3 | B8: TS

Sheet Tabel 9
A1: Tabel 9) Masa Studi Lulusan Program Studi
A3: Diisi oleh pengusul dari Program Studi pada Program Diploma Satu
A4: Tahun Masuk | B4: Jumlah Mahasiswa Diterima | C4: Jumlah Mahasiswa yang lulus pada | F4: Jumlah Lulusan s.d. akhir TS | G4: Rata-rata Masa Studi
C5: akhir TS-2 | D5: akhir TS-1 | E5: akhir TS
A6: 1 | B6: 2 | C6: 3 | D6: 4 | E6: 5 | F6: 6 | G6: 7
A7: TS-2
A8: TS-1
A9: TS
A11: Diisi oleh pengusul dari Program Studi pada Program Diploma Dua
A12: Tahun Masuk | B12: Jumlah Mahasiswa Diterima | C12: Jumlah Mahasiswa yang lulus pada | F12: Jumlah Lulusan s.d. akhir TS | G12: Rata-rata Masa Studi
C13: akhir TS-3 | D13: akhir TS-2 | E13: akhir TS-1
A14: 1 | B14: 2 | C14: 3 | D14: 4 | E14: 5 | F14: 6 | G14: 7
A15: TS-3
A16: TS-2
A17: TS-1
A19: Diisi oleh pengusul dari Program Studi pada Program Diploma Tiga
A20: Tahun Masuk | B20: Jumlah Mahasiswa Diterima | C20: Jumlah Mahasiswa yang lulus pada | H20: Jumlah Lulusan s.d. akhir TS | I20: Rata-rata Masa Studi
C21: akhir TS-4 | D21: akhir TS-3 | E21: akhir TS-2 | F21: akhir TS-1 | G21: Akhir TS
A22: 1 | B22: 2 | C22: 3 | D22: 4 | E22: 5 | F22: 6 | G22: 7 | H22: 8 | I22: 9
A23: TS-4 | B23: 101
A24: TS-3 | B24: 97
A25: TS-2 | B25: 89
A27: Diisi oleh pengusul dari Program Studi pada Program Sarjana/Sarjana Terapan
A28: Tahun Masuk | B28: Jumlah Mahasiswa Diterima | C28: Jumlah Mahasiswa yang lulus pada | J28: Jumlah Lulusan s.d. akhir TS | K28: Rata-rata Masa Studi
C29: Akhir TS-6 | D29: Akhir TS-5 | E29: Akhir TS-4 | F29: Akhir TS-3 | G29: Akhir TS-2 | H29: Akhir TS-1 | I29: Akhir TS
A30: 1 | B30: 2 | C30: 3 | D30: 4 | E30: 5 | F30: 6 | G30: 7 | H30: 8 | I30: 9 | J30: 10 | K30: 11
A31: TS-6 | B31: 45
A32: TS-5 | B32: 57
A33: TS-4 | B33: 40
A34: TS-3 | B34: 37
A36: Diisi oleh pengusul dari Program Studi pada Program Magister/Magister Terapan
A37: Tahun Masuk | B37: Jumlah Mahasiswa Diterima | C37: Jumlah Mahasiswa yang lulus pada | G37: Jumlah Lulusan s.d. Akhir TS | H37: Rata-rata Masa Studi
C38: Akhir TS-3 | D38: Akhir TS-2 | E38: Akhir TS-1 | F38: Akhir TS
A39: 1 | C39: 2 | D39: 3 | E39: 4 | F39: 5 | G39: 6 | H39: 7
A40: TS-3 | B40: 20
A41: TS-2 | B41: 16
A42: TS-1 | B42: 18
A44: Diisi oleh pengusul dari Program Studi pada Program Doktor/Doktor Terapan
A45: Tahun Masuk | B45: Jumlah Mahasiswa Diterima | C45: Jumlah Mahasiswa yang lulus pada | J45: Jumlah Lulusan s.d. Akhir TS | K45: Rata-rata Masa Studi
C46: Akhir TS-6 | D46: Akhir TS-5 | E46: Akhir TS-4 | F46: Akhir TS-3 | G46: Akhir TS-2 | H46: Akhir TS-1 | I46: Akhir TS
A47: 1 | C47: 2 | D47: 3 | E47: 4 | F47: 5 | G47: 6 | H47: 7 | I47: 8 | J47: 9 | K47: 10
A48: TS-6 | B48: 6
A49: TS-5 | B49: 6
A50: TS-4 | B50: 6
A51: TS-3 | B51: 8
A52: TS-2 | B52: 10

Sheet Tabel 10a
A1: Tabel 10.a) Waktu Tunggu Lulusan
A3: Diisi oleh pengusul dari Program Studi pada Program Sarjana
A4: Tahun Lulus | B4: Jumlah Lulusan | C4: Jumlah Lulusan yang Terlacak | D4: Jumlah Lulusan yang Dipesan Sebelum Lulus | E4: Jumlah Lulusan Terlacak dengan Waktu Tunggu Mendapatkan Pekerjaan
E5: WT < 3 bulan | F5: 3 ≤ WT ≤ 6 bulan | G5: WT > 6 bulan
A6: 1 | B6: 2 | C6: 3 | D6: 4 | E6: 5 | F6: 6 | G6: 7
A7: TS-4
A8: TS-3
A9: TS-2
A10: Jumlah | B10: =SUM(B7:B9) -> 0 | C10: =SUM(C7:C9) -> 0 | D10: =SUM(D7:D9) -> 0 | E10: =SUM(E7:E9) -> 0 | F10: =SUM(F7:F9) -> 0 | G10: =SUM(G7:G9) -> 0
A12: Diisi oleh pengusul dari Program Studi pada Program Diploma 1/Diploma 2
A13: Tahun Lulus | B13: Jumlah Lulusan | C13: Jumlah Lulusan yang Terlacak | D13: Jumlah Lulusan Terlacak dengan Waktu Tunggu Mendapatkan Pekerjaan
D14: WT < 3 bulan | E14: 3 ≤ WT ≤ 6 bulan | F14: WT > 6 bulan
A15: 1 | B15: 2 | C15: 3 | D15: 4 | E15: 5 | F15: 6
A16: TS-3
A17: TS-2
A18: TS-1
A19: Jumlah | B19: =SUM(B16:B18) -> 0 | C19: =SUM(C16:C18) -> 0 | D19: =SUM(D16:D18) -> 0 | E19: =SUM(E16:E18) -> 0 | F19: =SUM(F16:F18) -> 0
A21: Diisi oleh pengusul dari Program Studi pada Program Diploma 3/Sarjana Terapan/Sarjana
A22: Tahun Lulus | B22: Jumlah Lulusan | C22: Jumlah Lulusan yang Terlacak | D22: Jumlah Lulusan Terlacak dengan Waktu Tunggu Mendapatkan Pekerjaan
D23: WT < 3 bulan | E23: 3 ≤ WT ≤ 6 bulan | F23: WT > 6 bulan
A24: 1 | B24: 2 | C24: 3 | D24: 4 | E24: 5 | F24: 6
A25: TS-4
A26: TS-3
A27: TS-2
A28: Jumlah | B28: =SUM(B25:B27) -> 0 | C28: =SUM(C25:C27) -> 0 | D28: =SUM(D25:D27) -> 0 | E28: =SUM(E25:E27) -> 0 | F28: =SUM(F25:F27) -> 0

Sheet Tabel 10b
A1: Tabel 10.b) Kesesuaian Bidang Kerja Lulusan
A3: Diisi oleh pengusul dari Program Studi pada Program Diploma 1/Diploma 2
A4: Tahun Lulus | B4: Jumlah Lulusan | C4: Jumlah Lulusan yang Terlacak | D4: Jumlah lulusan Terlacak dengan Tingkat Keseuaian Bidang Kerja
D5: Rendah | E5: Sedang | F5: Tinggi
A6: 1 | B6: 2 | C6: 3 | D6: 4 | E6: 5 | F6: 6
A7: TS-3
A8: TS-2
A9: TS-1
A10: Jumlah | B10: =SUM(B7:B9) -> 0 | C10: =SUM(C7:C9) -> 0 | D10: =SUM(D7:D9) -> 0 | E10: =SUM(E7:E9) -> 0 | F10: =SUM(F7:F9) -> 0
A12: Diisi oleh pengusul dari Program Studi pada Program Diploma 3/Sarjana Terapan/Sarjana
A13: Tahun Lulus | B13: Jumlah Lulusan | C13: Jumlah Lulusan yang Terlacak | D13: Jumlah lulusan Terlacak dengan Tingkat Keseuaian Bidang Kerja
D14: Rendah | E14: Sedang | F14: Tinggi
A15: 1 | B15: 2 | C15: 3 | D15: 4 | E15: 5 | F15: 6
A16: TS-4
A17: TS-3
A18: TS-2
A19: Jumlah | B19: =SUM(B16:B18) -> 0 | C19: =SUM(C16:C18) -> 0 | D19: =SUM(D16:D18) -> 0 | E19: =SUM(E16:E18) -> 0 | F19: =SUM(F16:F18) -> 0

Sheet Tabel 10c
A1: Tabel 10.c) Tempat Kerja Lulusan
A4: Diisi oleh pengusul dari Program Studi pada Program Diploma 1/Diploma 2
A5: Tahun Lulus | B5: Jumlah Lulusan | C5: Jumlah Lulusan yang Terlacak | D5: Jumlah Lulusan Terlacak yang Bekerja Berdasarkan Tingkat/Ukuran Tempat Kerja/Berwirausaha
D6: Lokal/ Wilayah/ Berwirausaha tidak Berbadan Hukum | E6: Nasional/ Berwirausaha Berbadan Hukum | F6: Multinasiona/ Internasional
A7: 1 | B7: 2 | C7: 3 | D7: 4 | E7: 5 | F7: 6
A8: TS-3
A9: TS-2
A10: TS-1
A11: Jumlah | B11: =SUM(B3:B10) -> 2 | C11: =SUM(C3:C10) -> 3 | D11: =SUM(D3:D10) -> 4 | E11: =SUM(E3:E10) -> 5 | F11: =SUM(F3:F10) -> 6
A13: Diisi oleh pengusul dari Program Studi pada Program Diploma 3/Sarjana Terapan/Sarjana
A14: Tahun Lulus | B14: Jumlah Lulusan | C14: Jumlah Lulusan yang Terlacak | D14: Jumlah Lulusan Terlacak yang Bekerja Berdasarkan Tingkat/Ukuran Tempat Kerja/Berwirausaha
D15: Lokal/ Wilayah/ Berwirausaha tidak Berbadan Hukum | E15: Nasional/ Berwirausaha Berbadan Hukum | F15: Multinasiona/ Internasional
A16: 1 | B16: 2 | C16: 3 | D16: 4 | E16: 5 | F16: 6
A17: TS-4
A18: TS-3
A19: TS-2
A20: Jumlah | B20: =SUM(B17:B19) -> 0 | C20: =SUM(C17:C19) -> 0 | D20: =SUM(D17:D19) -> 0 | E20: =SUM(E17:E18) -> 0 | F20: =SUM(F17:F19) -> 0

Sheet Ref 11a
A1: Tabel Referensi untuk Tabel 11a) Kepuasan Pengguna Lulusan
A4: Tahun Lulus | B4: Jumlah Lulusan | C4: Jumlah Tanggapan Kepuasan Pengguna yang Terlacak
A6: 1 | B6: 2 | C6: 3
A7: TS-4
A8: TS-3
A9: TS-2
A10: Jumlah | B10: =SUM(B7:B9) -> 0 | C10: =SUM(C7:C9) -> 0

Sheet Tabel 11
A1: Tabel 11) Kepuasan Pengguna Lulusan
A4: No | B4: Jenis Kemampuan | C4: Tingkat Kepuasan Pengguna (%) | G4: Rencana Tindak Lanjut oleh UPPS/PS
C5: Sangat Baik | D5: Baik | E5: Cukup | F5: Kurang
A6: 1 | B6: 2 | C6: 3 | D6: 4 | E6: 5 | F6: 6 | G6: 2
A7: 1 | B7: Etika
A8: 2 | B8: Keahlian pada bidang ilmu (kompetensi utama)
A9: 3 | B9: Kemampuan berbahasa asing
A10: 4 | B10: Penggunaan teknologi informasi
A11: 5 | B11: Kemampuan berkomunikasi
A12: 6 | B12: Kerjasama
A13: 7 | B13: Pengembangan diri
A14: Jumlah | C14: =SUM(C7:C13) -> 0 | D14: =SUM(D7:D13) -> 0 | E14: =SUM(E7:E13) -> 0 | F14: =SUM(F7:F13) -> 0

Sheet Tabel 12
A1: Tabel 12) Penelitian DTPS
A3: No. | B3: Sumber Pembiayaan | C3: Jumlah Judul Penelitian | F3: Jumlah
C4: TS-2 | D4: TS-1 | E4: TS
A5: 1 | B5: 2 | C5: 3 | D5: 4 | E5: 5 | F5: 6
A6: 1 | B6: a) Perguruan tinggi b) Mandiri | F6: =SUM(C6:E6) -> 0
A7: 2 | B7: Lembaga dalam negeri (diluar PT) | F7: =SUM(C7:E7) -> 0
A8: 3 | B8: Lembaga luar negeri | F8: =SUM(C8:E8) -> 0
A9: Jumlah | C9: =SUM(C6:C8) -> 0 | D9: =SUM(D6:D8) -> 0 | E9: =SUM(E6:E8) -> 0 | F9: =SUM(C9:E9) -> 0

Sheet Tabel 13
A1: Tabel 13) Penelitian DTPS yang Melibatkan Mahasiswa
A4: No. | B4: Nama Dosen | C4: Tema Penelitian sesuai Roadmap | D4: Nama Mahasiswa | E4: Judul Kegiatan | F4: Tahun (YYYY)
A5: 1 | B5: 2 | C5: 3 | D5: 4 | E5: 5 | F5: 6
A6: 1
A7: 2
A8: 3
A9: 4
A10: 5
A11: 6
A12: 7
A13: 8
A14: 9
A15: 10
A16: 11
A17: 12
... A46: 41
E47: Jumlah

Sheet Tabel 14-Akademik
A1: Tabel 14) Publikasi Ilmiah DTPS dan/atau bersama mahasiswa
A4: No. | B4: Jenis Publikasi | C4: Jumlah Judul | F4: Jumlah
C5: TS-2 | D5: TS-1 | E5: TS
A6: 1 | B6: 2 | C6: 3 | D6: 4 | E6: 5 | F6: 6
A7: 1 | B7: Jurnal penelitian tidak terakreditasi | F7: =SUM(C7:E7) -> 0
A8: 2 | B8: Jurnal penelitian nasional terakreditasi | F8: =SUM(C8:E8) -> 0
A9: 3 | B9: Jurnal penelitian internasional | F9: =SUM(C9:E9) -> 0
A10: 4 | B10: Jurnal penelitian internasional bereputasi | F10: =SUM(C10:E10) -> 0
A11: 5 | B11: Seminar wilayah/lokal/perguruan tinggi | F11: =SUM(C11:E11) -> 0
A12: 6 | B12: Seminar nasional | F12: =SUM(C12:E12) -> 0
A13: 7 | B13: Seminar internasional | F13: =SUM(C13:E13) -> 0
A14: 8 | B14: Tulisan di media massa wilayah | F14: =SUM(C14:E14) -> 0
A15: 9 | B15: Tulisan di media massa nasional | F15: =SUM(C15:E15) -> 0
A16: 10 | B16: Tulisan di media massa internasional | F16: =SUM(C16:E16) -> 0
A17: Jumlah | C17: =SUM(C7:C16) -> 0 | D17: =SUM(D7:D16) -> 0 | E17: =SUM(E7:E16) -> 0 | F17: =SUM(C17:E17) -> 0

Sheet Tabel 14-Vokasi
A1: Tabel 14) Publikasi Ilmiah DTPS dan/atau bersama mahasiswa | G1: <<< Daftar Tabel
A4: No. | B4: Media Publikasi | C4: Jumlah Judul | F4: Jumlah
C5: TS-2 | D5: TS-1 | E5: TS
A6: 1 | B6: 2 | C6: 3 | D6: 4 | E6: 5 | F6: 6
A7: 1 | B7: Jurnal penelitian tidak terakreditasi
A8: 2 | B8: Jurnal penelitian nasional terakreditasi
A9: 3 | B9: Jurnal penelitian internasional
A10: 4 | B10: Jurnal penelitian internasional bereputasi
A11: 5 | B11: Seminar wilayah/lokal/perguruan tinggi
A12: 6 | B12: Seminar nasional
A13: 7 | B13: Seminar internasional
A14: 8 | B14: Pagelaran/pameran/presentasi dalam forum di tingkat wilayah
A15: 9 | B15: Pagelaran/pameran/presentasi dalam forum di tingkat nasional
A16: 10 | B16: Pagelaran/pameran/presentasi dalam forum di tingkat internasional
A17: Jumlah

Sheet Tabel 15-HKI Hak Paten
A1: Tabel 15) Luaran Penelitian/PkM Lainnya oleh DTPS
A3: Tabel 15) Bagian-1 HKI (Paten, Paten Sederhana)
A4: No | B4: Luaran Penelitian dan PkM | C4: Tahun (YYYY) | D4: Keterangan
A5: 1 | B5: 2 | C5: 3 | D5: 4
A6: I | B6: HKI: a) Paten, b) Paten Sederhana
A7: 1
A8: 2
A9: 3
A10: 4
A11: 5
A12: …

Sheet Tabel 15-HKI Hak Cipta
A1: Tabel 15) Luaran Penelitian/PkM Lainnya oleh DTPS
A3: Tabel 15) Bagian-2 HKI (Hak Cipta, Desain Produk Industri, dll.)
A4: No | B4: Luaran Penelitian dan PkM | C4: Tahun (YYYY) | D4: Keterangan
A5: 1 | B5: 2 | C5: 3 | D5: 4
A6: II | B6: HKI: a) Hak Cipta, b) Desain Produk Industri, c) Desain Tata Letak Sirkuit Terpadu, d) dll.)
A7: 1
A8: 2
A9: 3
A10: 4
A11: 5
A12: 6
A13: 7
A14: 8
A15: 9
A16: 10
A17: 11
A18: 12
... A41: 35

Sheet Tabel 15-Teknologi
A1: Tabel 15) Luaran Penelitian/PkM Lainnya oleh DTPS
A3: Tabel 15) Bagian-3 Teknologi Tepat Guna, Produk, Karya Seni, Rekayasa Sosial
A4: No | B4: Luaran Penelitian dan PkM | C4: Tahun (YYYY) | D4: Keterangan
A5: 1 | B5: 2 | C5: 3 | D5: 4
A6: III | B6: Teknologi Tepat Guna, Produk (Produk Terstandarisasi, Produk Tersertifikasi), Karya Seni, Rekayasa Sosial
A8: 1

Sheet Tabel 15-Buku ber-ISBN
A1: Tabel 15) Luaran Penelitian/PkM Lainnya oleh DTPS
A3: Tabel 15) Bagian-4 Buku Ber-ISBN, Book Chapter
A4: No | B4: Luaran Penelitian dan PkM | C4: Tahun (YYYY) | D4: Keterangan
A5: 1 | B5: 2 | C5: 3 | D5: 4
A6: IV | B6: Buku ber-ISBN, Book Chapter
A7: 1
A8: 2
A9: 3
A10: 4
A11: 5
A12: 6
A13: 7
A14: 8
A15: 9
A16: 10
A17: 11
A18: 12
... A20: 14

Sheet Tabel 15a
A1: Tabel 15.a) Produk/Jasa DTPS yang Diadopsi oleh Industri/Masyarakat
A4: No. | B4: Nama Dosen | C4: Nama Produk/Jasa | D4: Deskripsi Produk/Jasa | E4: Bukti | F4: Tahun [YYYY]
A5: 1 | B5: 2 | C5: 3 | D5: 3 | E5: 4 | F5: 4
A6: 1
A7: 2
A8: 3
A9: 4
A10: 5
A11: …

Sheet Tabel 16
A1: Tabel 16) Karya Ilmiah DTPS yang Disitasi
A4: No. | B4: Nama Dosen | C4: Judul Artikel yang Disitasi (Jurnal, Volume, Tahun, Nomor, Halaman) | D4: Jumlah Sitasi
A5: 1 | B5: 2 | C5: 3 | D5: 4
A6: 1
A7: 2
A8: 3
A9: 4
A10: 5
A11: 6
A12: 7
A13: 8
A14: 9
A15: 10
A16: 11
A17: 12
... A25: 20

Sheet Tabel 17
A1: Tabel 17) PkM DTPS
A3: No. | B3: Sumber Pembiayaan | C3: Jumlah Judul PkM | F3: Jumlah
C4: TS-2 | D4: TS-1 | E4: TS
A5: 1 | B5: 2 | C5: 3 | D5: 4 | E5: 5 | F5: 6
A6: 1 | B6: a) Perguruan tinggi b) Mandiri | F6: =SUM(C6:E6) -> 0
A7: 2 | B7: Lembaga dalam negeri (diluar PT) | F7: =SUM(C7:E7) -> 0
A8: 3 | B8: Lembaga luar negeri | F8: =SUM(C8:E8) -> 0
A9: Jumlah | C9: =SUM(C6:C8) -> 0 | D9: =SUM(D6:D8) -> 0 | E9: =SUM(E6:E8) -> 0 | F9: =SUM(C9:E9) -> 0

Sheet Tabel 18
A1: Tabel 18) PkM DTPS yang melibatkan mahasiswa
A4: No. | B4: Nama Dosen | C4: Tema PkM sesuai Roadmap | D4: Nama Mahasiswa | E4: Judul Kegiatan | F4: Tahun (YYYY)
A5: 1 | B5: 2 | C5: 3 | D5: 4 | E5: 5 | F5: 6
A6: 1
A7: 2
A8: 3
A9: 4
A10: 5
A11: 6
A12: 7
A13: 8
A14: 9
A15: 10
A16: 11
A17: 12
A18: …

Sheet Tabel 19-Akademik
A1: Tabel 19) Publikasi Ilmiah luaran PkM dalam bentuk publikasi ilmiah yang dihasilkan oleh DTPS baik secara mandiri atau bersama mahasiswa
A4: No. | B4: Jenis Publikasi | C4: Jumlah Judul | F4: Jumlah
C5: TS-2 | D5: TS-1 | E5: TS
A6: 1 | B6: 2 | C6: 3 | D6: 4 | E6: 5 | F6: 6
A7: 1 | B7: Jurnal nasional tidak terakreditasi | F7: =SUM(C7:E7) -> 0
A8: 2 | B8: Jurnal nasional terakreditasi | F8: =SUM(C8:E8) -> 0
A9: 3 | B9: Jurnal internasional | F9: =SUM(C9:E9) -> 0
A10: 4 | B10: Jurnal internasional bereputasi | F10: =SUM(C10:E10) -> 0
A11: 5 | B11: Seminar wilayah/lokal/perguruan tinggi | F11: =SUM(C11:E11) -> 0
A12: 6 | B12: Seminar nasional | F12: =SUM(C12:E12) -> 0
A13: 7 | B13: Seminar internasional | F13: =SUM(C13:E13) -> 0
A14: 8 | B14: Tulisan di media massa wilayah | F14: =SUM(C14:E14) -> 0
A15: 9 | B15: Tulisan di media massa nasional | F15: =SUM(C15:E15) -> 0
A16: 10 | B16: Tulisan di media massa internasional | F16: =SUM(C16:E16) -> 0
A17: Jumlah | C17: =SUM(C7:C16) -> 0 | D17: =SUM(D7:D16) -> 0 | E17: =SUM(E7:E16) -> 0 | F17: =SUM(C17:E17) -> 0

Sheet Tabel 19-Vokasi
A1: Tabel 19) Publikasi Ilmiah luaran PkM dalam bentuk publikasi ilmiah yang dihasilkan oleh DTPS baik secara mandiri atau bersama mahasiswa
A4: No. | B4: Jenis Publikasi | C4: Jumlah Judul | F4: Jumlah
C5: TS-2 | D5: TS-1 | E5: TS
A6: 1 | B6: 2 | C6: 3 | D6: 4 | E6: 5 | F6: 6
A7: 1 | B7: Jurnal nasional tidak terakreditasi | F7: =SUM(C7:E7) -> 0
A8: 2 | B8: Jurnal nasional terakreditasi | F8: =SUM(C8:E8) -> 0
A9: 3 | B9: Jurnal internasional | F9: =SUM(C9:E9) -> 0
A10: 4 | B10: Jurnal internasional bereputasi | F10: =SUM(C10:E10) -> 0
A11: 5 | B11: Seminar wilayah/lokal/perguruan tinggi | F11: =SUM(C11:E11) -> 0
A12: 6 | B12: Seminar nasional | F12: =SUM(C12:E12) -> 0
A13: 7 | B13: Seminar internasional | F13: =SUM(C13:E13) -> 0
A14: 8 | B14: Pagelaran/pameran/presentasi dalam forum di tingkat wilayah | F14: =SUM(C14:E14) -> 0
A15: 9 | B15: Pagelaran/pameran/presentasi dalam forum di tingkat nasional | F15: =SUM(C15:E15) -> 0
A16: 10 | B16: Pagelaran/pameran/presentasi dalam forum di tingkat internasional | F16: =SUM(C16:E16) -> 0
A17: Jumlah | C17: =SUM(C7:C16) -> 0 | D17: =SUM(D7:D16) -> 0 | E17: =SUM(E7:E16) -> 0 | F17: =SUM(C17:E17) -> 0

Sheet Tabel 20-Pendidikan
A1: Tabel 20) Kerjasama
A3: Tabel 20 Bagian-1 Kerjasama Pendidikan
B5: Check
B7: V
A9: No. | B9: Lembaga Mitra | C9: Tingkat *) | F9: Judul Kegiatan Kerjasama | G9: Manfaat bagi PS yang Diakreditasi | H9: Waktu dan Durasi | I9: Bukti Kerjasama | J9: Tahun Berakhirnya Kerjasama (YYYY)
C10: Interna-sional | D10: Nasional | E10: Wilayah/ Lokal
A11: 1 | B11: 2 | C11: 3 | D11: 4 | E11: 5 | F11: 6 | G11: 7 | H11: 8 | I11: 9 | J11: 10
A12: 1
A13: 2
A14: 3
A15: 4
A16: 5
A17: 6
A18: 7
A19: 8
A20: 9
A21: 10
A22: 11
A23: 12
... A85: 74

Sheet Tabel 20-Penelitian
A1: Tabel 20) Kerjasama
A3: Tabel 20) Bagian-2 Kerjasama Penelitian
B5: Check
B7: V
A9: No. | B9: Lembaga Mitra | C9: Tingkat *) | F9: Judul Kegiatan Kerjasama | G9: Manfaat bagi PS yang Diakreditasi | H9: Waktu dan Durasi | I9: Bukti Kerjasama | J9: Tahun Berakhirnya Kerjasama (YYYY)
C10: Interna-sional | D10: Nasional | E10: Wilayah/ Lokal
A11: 1 | B11: 2 | C11: 3 | D11: 4 | E11: 5 | F11: 6 | G11: 7 | H11: 8 | I11: 9 | J11: 10
A12: 1
A13: 2
A14: 3
A15: 4
A16: 5
A17: 6
A18: 7
A19: 8
A20: 9
A21: 10
A22: 11
A23: 12
... A27: 16

Sheet Tabel 20-PkM
A1: Tabel 20) Kerjasama
A3: Tabel 20) Bagian-3 Kerjasama Pengabdian kepada Masyarakat
B5: Check
B7: V
A9: No. | B9: Lembaga Mitra | C9: Tingkat *) | F9: Judul Kegiatan Kerjasama | G9: Manfaat bagi PS yang Diakreditasi | H9: Waktu dan Durasi | I9: Bukti Kerjasama | J9: Tahun Berakhirnya Kerjasama (YYYY)
C10: Interna-sional | D10: Nasional | E10: Wilayah/ Lokal
A11: 1 | B11: 2 | C11: 3 | D11: 4 | E11: 5 | F11: 6 | G11: 7 | H11: 8 | I11: 9 | J11: 10
A12: 1
A13: 2
A14: 3
A15: 4
A16: 5
A17: 6
A18: 7
A19: 8
A20: 9
A21: 10
A22: 11
A23: 12
... A92: 81

Sheet Tabel 21
A1: Tabel 21) Penggunaan Dana
A3: No. | B3: Jenis Penggunaan | C3: Unit Pengelola Program Studi (Rupiah) | G3: Program Studi (Rupiah)
C4: TS-2 | D4: TS-1 | E4: TS | F4: Rata-rata | G4: TS-2 | H4: TS-1 | I4: TS | J4: Rata-rata
A5: 1 | B5: 2 | C5: 3 | D5: 4 | E5: 5 | F5: 6 | G5: 3 | H5: 4 | I5: 5 | J5: 6
A6: 1 | B6: Biaya Operasional Pendidikan
B7: a. Biaya Dosen (Gaji, Honor) | J7: =AVERAGE(G7:I7) -> #DIV/0!
B8: b. Biaya Tenaga Kependidikan (Gaji, Honor) | J8: =AVERAGE(G8:I8) -> #DIV/0!
B9: c. Biaya Operasional Pembelajaran (Bahan dan Peralatan Habis Pakai) | J9: =AVERAGE(G9:I9) -> #DIV/0!
B10: d. Biaya Operasional Tidak Langsung (Listrik, Gas, Air, Pemeliharaan Gedung, Pemeliharaan Sarana, Uang Lembur, Telekomunikasi, Konsumsi, Transport Lokal, Pajak, Asuransi, dll.) | J10: =AVERAGE(G10:I10) -> #DIV/0!
A11: 2 | B11: Biaya operasional kemahasiswaan (penalaran, minat, bakat, dan kesejahteraan). | J11: =AVERAGE(G11:I11) -> #DIV/0!
A12: Jumlah | C12: =SUM(C7:C11) -> 0 | D12: =SUM(D7:D11) -> 0 | E12: =SUM(E7:E11) -> 0 | F12: =AVERAGE(C12:E12) -> 0 | G12: =SUM(G7:G11) -> 0 | H12: =SUM(H7:H11) -> 0 | I12: =SUM(I7:I11) -> 0 | J12: =AVERAGE(G12:I12) -> 0
A13: 3 | B13: Biaya Penelitian | J13: =AVERAGE(G13:I13) -> #DIV/0!
A14: 4 | B14: Biaya PkM | J14: =AVERAGE(G14:I14) -> #DIV/0!
A15: Jumlah | C15: =SUM(C13:C14) -> 0 | D15: =SUM(D13:D14) -> 0 | E15: =SUM(E13:E14) -> 0 | F15: =AVERAGE(C15:E15) -> 0 | G15: =SUM(G13:G14) -> 0 | H15: =SUM(H13:H14) -> 0 | I15: =SUM(I13:I14) -> 0 | J15: =AVERAGE(G15:I15) -> 0
A16: 5 | B16: Biaya Investasi SDM | J16: =AVERAGE(G16:I16) -> #DIV/0!
A17: 6 | B17: Biaya Investasi Sarana | J17: =AVERAGE(G17:I17) -> #DIV/0!
A18: 6 | B18: Biaya Investasi Prasarana | J18: =AVERAGE(G18:I18) -> #DIV/0!
A19: Jumlah | C19: =SUM(C16:C18) -> 0 | D19: =SUM(D16:D18) -> 0 | E19: =SUM(E16:E18) -> 0 | F19: =AVERAGE(C19:E19) -> 0 | G19: =SUM(G16:G18) -> 0 | H19: =SUM(H16:H18) -> 0 | I19: =SUM(I16:I18) -> 0 | J19: =AVERAGE(G19:I19) -> 0

Sheet Tabel 22
A1: Tabel 22) Kepuasan Mahasiswa
A3: No. | B3: Aspek yang Diukur | C3: Tingkat Kepuasan Mahasiswa (%) | G3: Rencana Tindak Lanjut oleh UPPS/PS
C4: Sangat Baik | D4: Baik | E4: Cukup | F4: Kurang
A5: 1 | B5: 2 | C5: 3 | D5: 4 | E5: 5 | F5: 6 | G5: 7
A6: 1 | B6: Keandalan (reliability): kemampuan dosen, tenaga kependidikan, dan pengelola dalam memberikan pelayanan.
A7: 2 | B7: Daya tanggap (responsiveness): kemauan dari dosen, tenaga kependidikan, dan pengelola dalam membantu mahasiswa dan memberikan jasa dengan cepat.
A8: 3 | B8: Kepastian (assurance): kemampuan dosen, tenaga kependidikan, dan pengelola untuk memberi keyakinan kepada mahasiswa bahwa pelayanan yang diberikan telah sesuai dengan ketentuan.
A9: 4 | B9: Empati (empathy): kesediaan/kepedulian dosen, tenaga kependidikan, dan pengelola untuk memberi perhatian kepada mahasiswa.
A10: 5 | B10: Tangible: penilaian mahasiswa terhadap kecukupan, aksesibitas, kualitas sarana dan prasarana.
A11: Jumlah | C11: =SUM(C6:C10) -> 0 | D11: =SUM(D6:D10) -> 0 | E11: =SUM(E6:E10) -> 0 | F11: =SUM(F6:F10) -> 0

Sheet Tabel 23
A1: Tabel 23) Pengakuan/Rekognisi DTPS
B3: Check
B5: V
A7: No. | B7: Nama Dosen | C7: Bidang Keahlian | D7: Rekognisi dan Bukti Pendukung | E7: Tingkat | H7: Tahun (YYYY)
E8: Wilayah | F8: Nasional | G8: Interna-sional
A9: 1 | B9: 2 | C9: 3 | D9: 4 | E9: 5 | F9: 6 | G9: 7 | H9: 8
A10: 1
A11: 2
A12: 3
A13: 4
A14: 5
A15: 6
A16: 7
A17: 8
A18: 9
A19: 10
A20: 11
A21: 12
... A59: 50
D60: Jumlah

Sheet SUMMARY
A1: Berikut adalah data yang terbaca dari setiap Tabel yang anda isi.
A2: Mohon tidak mengubah rumus atau posisi apapun di tabel ini, dan silahkan untuk crosscheck nilai yang masuk dengan nilai seharusnya.
A3: Tabel | B3: Kode | C3: Nama | D3: Nilai
A4: Table1 | B4: S1_001_NDTPS | C4: NDTPS : Jumlah Dosen Tetap Perguruan Tinggi yang ditugaskan sebagai pengampu mata kuliah dengan bidang keahlian yang sesuai dengan kompetensi inti program studi yang diakreditasi. | D4: =COUNTIFS('Tabel 1'!N14:N25,"V") -> 0
A5: Table1 | B5: S1_002_NDS3 | C5: NDS3 : DTPS yang Doktor/Doktor Terapan | D5: =COUNTA('Tabel 1'!F14:F25) -> 0
A6: Table1 | B6: S1_003_NDT | C6: NDT : Jumlah Dosen Tetap Program Studi yang terdaftar Dalam PDDIKTI | D6: =COUNTIFS('Tabel 1'!G14:G25,"V") -> 0
A7: Table1 | B7: S1_004_NKDTLB | C7: NKDTLB : DTPS yang D3 D4 atau Sarjana, sesuai dengan kompetensi inti prodi di semua jenjang | D7: =COUNTA('Tabel 1'!D14:D25) -> 0
A8: Table1 | B8: S1_005_NLDTPS | C8: NLDTPS : DTPS yang memiliki latar belakang pendidikan terakhir/tertinggi yang linear dan sesuai dengan kompetensi inti program studi di semua jenjang Pendidikan | D8: =COUNTIFS('Tabel 1'!I14:I25,"V") -> 0
A9: Table1 | B9: S1_006_NDSK | C9: NDSK : Jumlah DTPS yang memiliki sertifikat kompetensi/profesi/industri yang sesuai dengan kompetensi inti program studi/relevan dengan bidang program studi | D9: =COUNTA('Tabel 1'!L14:L25) -> 0
A10: Table1 | B10: S1_007_NDGB | C10: NDGB : DTPS GURU BESAR | D10: =COUNTIFS('Tabel 1'!J14:J25,"Guru Besar") -> 0
A11: Table1 | B11: S1_008_NDLK | C11: NDLK : DTPS LEKTOR KEPALA | D11: =COUNTIFS('Tabel 1'!J14:J25,"LK") -> 0
A12: Table1 | B12: S1_009_NDL | C12: NDL : DTPS LEKTOR | D12: =COUNTIFS('Tabel 1'!J14:J25,"L") -> 0
A13: Table2 | B13: S1_010_MKKI | C13: MKKI : Jumlah mata kuliah kompetensi yang diampu oleh dosen industri/praktisi | D13: =COUNTA('Tabel 2'!H6:H11) -> 0
A14: Table4 | B14: S1_011_MKK | C14: MKK : Jumlah mata kuliah kompetensi | D14: =COUNTA('Tabel 4'!E10:E60) -> 0
A15: Table3 | B15: S1_012_NDTT | C15: NDTT : Jumlah dosen tidak tetap yang ditugaskan sebagai pengampu mata kuliah di program studi yang diakreditasi | D15: =COUNTA('Tabel 3'!B13:B18) -> 0
A16: Table1 | B16: S1_013_NDTPT | C16: NDTPT : Jumlah dosen tetap Perguruan Tinggi yang ditugaskan sebagai pengampu mata kuliah di program studi yang diakreditasi | D16: =COUNTA('Tabel 1'!M14:M25) -> 0
A17: Table4 | B17: S1_014_JP | C17: JP : Jam pembelajaran praktikum, praktik studio, praktik bengkel, atau praktik lapangan (termasuk KKN) | D17: =SUMIF('Tabel 4'!H10:H59,"<>",'Tabel 4'!I10:I59) -> 0
A18: Table4 | B18: S1_015_JB | C18: JB : Jam pembelajaran total selama masa pendidikan | D18: =SUM('Tabel 4'!I10:I59) -> 0
A19: Table5 | B19: S1_016_NM | C19: NM : Jumlah mahasiswa pada saat TS | D19: =SUM('Tabel 5'!E7:E18,'Tabel 5'!I7:I18) -> 0
A20: Table5 | B20: S1_017_RDPUPS | C20: RDPUPS : Rata-rata jumlah mahasiswa yang dibimbing pada PS yang diakreditasi | D20: =SUM('Tabel 5'!F7:F18) -> 0
A21: Table5 | B21: S1_018_RDPUL | C21: RDPUL : Rata-rata jumlah mahasiswa yang dibimbing pada PS lain di PT | D21: =SUM('Tabel 5'!J7:J18) -> 0
A22: Table6 | B22: S1_019_EWMPDT | C22: EWMPDT : Rata-rata EWMP DT per semester pada saat TS | D22: =SUM('Tabel 6'!K11:K22) -> 0
A23: Table6 | B23: S1_020_EWMPDTPS | C23: EWMPDTPS : Rata-rata EWMP DTPS per semester pada saat TS | D23: =SUMIF('Tabel 6'!C11:C22,"V",'Tabel 6'!K11:K22) -> 0
A24: Table7a | B24: S1_021_NI_AKA | C24: NI : Jumlah prestasi akademik internasional | D24: =COUNTIFS('Tabel 7a'!F10:F24,"V") -> 0
A25: Table7a | B25: S1_022_NN_AKA | C25: NN : Jumlah prestasi akademik nasional | D25: =COUNTIFS('Tabel 7a'!E10:E24,"V") -> 0
A26: Table7a | B26: S1_023_NW_AKA | C26: NW : Jumlah prestasi akademik wilayah/lokal | D26: =COUNTIFS('Tabel 7a'!D10:D24,"V") -> 0
A27: Table7b | B27: S1_024_NI_NONAKA | C27: NI : Jumlah prestasi nonakademik internasional | D27: =COUNTIFS('Tabel 7b'!F11:F41,"V") -> 0
A28: Table7b | B28: S1_025_NN_NONAKA | C28: NN : Jumlah prestasi nonakademik nasional | D28: =COUNTIFS('Tabel 7b'!E11:F41,"V") -> 0
A29: Table7b | B29: S1_026_NW_NONAKA | C29: NW : Jumlah prestasi nonakademik wilayah/lokal | D29: =COUNTIFS('Tabel 7b'!D11:F41,"V") -> 0
A30: Table8 | B30: S1_027_LULUS_TS2 | C30: Jumlah Lulusan pada TS-2 | D30: ='Tabel 8'!C6 -> 0
A31: Table8 | B31: S1_028_LULUS_TS1 | C31: Jumlah Lulusan pada TS-1 | D31: ='Tabel 8'!C7 -> 0
A32: Table8 | B32: S1_029_LULUS_TS | C32: Jumlah Lulusan pada TS | D32: ='Tabel 8'!C8 -> 0
A33: Table8 | B33: S1_030_IPK_TS2 | C33: IPK Rata-rata pada TS-2 | D33: ='Tabel 8'!E6 -> 0
A34: Table8 | B34: S1_031_IPK_TS1 | C34: IPK Rata-rata pada TS-1 | D34: ='Tabel 8'!E7 -> 0
A35: Table8 | B35: S1_032_IPK_TS | C35: IPK Rata-rata pada TS | D35: ='Tabel 8'!E8 -> 0
A36: Table9 | B36: S1_033_LULUS_TS6_AKHIR | C36: Jumlah lulusan pada akhir TS dari mahasiswa tahun masuk TS-6
A37: Table9 | B37: S1_034_MSTUDI_TS6 | C37: Rata-rata masa studi lulusan dari mahasiswa tahun masuk TS-6 (Tahun)
A38: Table9 | B38: S1_035_LULUS_TS5_AKHIR | C38: Jumlah lulusan pada akhir TS dari mahasiswa tahun masuk TS-5
A39: Table9 | B39: S1_036_MSTUDI_TS5 | C39: Rata-rata masa studi lulusan dari mahasiswa tahun masuk TS-5 (Tahun)
A40: Table9 | B40: S1_037_LULUS_TS4_AKHIR | C40: Jumlah lulusan pada akhir TS dari mahasiswa tahun masuk TS-4
A41: Table9 | B41: S1_038_MSTUDI_TS4 | C41: Rata-rata masa studi lulusan dari mahasiswa tahun masuk TS-4 (Tahun)
A42: Table9 | B42: S1_039_LULUS_TS3_AKHIR | C42: Jumlah lulusan pada akhir TS dari mahasiswa tahun masuk TS-3
A43: Table9 | B43: S1_040_MSTUDI_TS3 | C43: Rata-rata masa studi lulusan dari mahasiswa tahun masuk TS-3 (Tahun)
A44: Table9 | B44: S1_041_MHS_DITERIMA_TS6 | C44: Jumlah Mahasiswa Diterima pada TS-6
A45: Table9 | B45: S1_042_MHS_DITERIMA_TS5 | C45: Jumlah Mahasiswa Diterima pada TS-5
A46: Table9 | B46: S1_043_MHS_DITERIMA_TS4 | C46: Jumlah Mahasiswa Diterima pada TS-4
A47: Table9 | B47: S1_044_MHS_DITERIMA_TS3 | C47: Jumlah Mahasiswa Diterima pada TS-3
... A87: Table10c | B87: S1_084_TS2_NW_KERJA_LOKAL | C87: TS-2 : Jumlah lulusan yang bekerja di badan usaha tingkat wilayah/lokal atau berwirausaha tidak berizin
A88: Table11a | B88: S1_085_NJ4_DINILAI_PENGGUNA | C88: NJ4 : Jumlah lulusan pada TS-4 yang dinilai oleh pengguna | D88: ='Ref 11a'!C7 -> 0
A89: Table11a | B89: S1_086_NJ3_DINILAI_PENGGUNA | C89: NJ3 : Jumlah lulusan pada TS-3 yang dinilai oleh pengguna | D89: ='Ref 11a'!C8 -> 0
A90: Table11a | B90: S1_087_NJ2_DINILAI_PENGGUNA | C90: NJ2 : Jumlah lulusan pada TS-2 yang dinilai oleh pengguna | D90: ='Ref 11a'!C9 -> 0
A91: Table11 | B91: S1_088_KPU_ETIKA_SANGAT_BAIK | C91: Tingkat Kepuasan Pengguna Lulusan – Etika (% Sangat Baik) | D91: ='Tabel 11'!C7 -> 0
A92: Table11 | B92: S1_089_KPU_ETIKA_BAIK | C92: Tingkat Kepuasan Pengguna Lulusan – Etika (% Baik) | D92: ='Tabel 11'!D7 -> 0
A93: Table11 | B93: S1_090_KPU_ETIKA_CUKUP | C93: Tingkat Kepuasan Pengguna Lulusan – Etika (% Cukup) | D93: ='Tabel 11'!E7 -> 0
A94: Table11 | B94: S1_091_KPU_ETIKA_KURANG | C94: Tingkat Kepuasan Pengguna Lulusan – Etika (% Kurang) | D94: ='Tabel 11'!F7 -> 0
A95: Table11 | B95: S1_092_KPU_KEAHLIAN_SANGAT_BAIK | C95: Tingkat Kepuasan Pengguna Lulusan – Keahlian (% Sangat Baik) | D95: ='Tabel 11'!C8 -> 0
A96: Table11 | B96: S1_093_KPU_KEAHLIAN_BAIK | C96: Tingkat Kepuasan Pengguna Lulusan – Keahlian (% Baik) | D96: ='Tabel 11'!D8 -> 0 | M96: D
A97: Table11 | B97: S1_094_KPU_KEAHLIAN_CUKUP | C97: Tingkat Kepuasan Pengguna Lulusan – Keahlian (% Cukup) | D97: ='Tabel 11'!E8 -> 0
A98: Table11 | B98: S1_095_KPU_KEAHLIAN_KURANG | C98: Tingkat Kepuasan Pengguna Lulusan – Keahlian (% Kurang) | D98: ='Tabel 11'!F8 -> 0
A99: Table11 | B99: S1_096_KPU_BAHASA_SANGAT_BAIK | C99: Tingkat Kepuasan Pengguna Lulusan – Bahasa (% Sangat Baik) | D99: ='Tabel 11'!C9 -> 0
A100: Table11 | B100: S1_097_KPU_BAHASA_BAIK | C100: Tingkat Kepuasan Pengguna Lulusan – Bahasa (% Baik) | D100: ='Tabel 11'!D9 -> 0
A101: Table11 | B101: S1_098_KPU_BAHASA_CUKUP | C101: Tingkat Kepuasan Pengguna Lulusan – Bahasa (% Cukup) | D101: ='Tabel 11'!E9 -> 0
A102: Table11 | B102: S1_099_KPU_BAHASA_KURANG | C102: Tingkat Kepuasan Pengguna Lulusan – Bahasa (% Kurang) | D102: ='Tabel 11'!F9 -> 0
A103: Table11 | B103: S1_100_KPU_TI_SANGAT_BAIK | C103: Tingkat Kepuasan Pengguna Lulusan – Teknologi Informasi (% Sangat Baik) | D103: ='Tabel 11'!C10 -> 0
A104: Table11 | B104: S1_101_KPU_TI_BAIK | C104: Tingkat Kepuasan Pengguna Lulusan – Teknologi Informasi (% Baik) | D104: ='Tabel 11'!D10 -> 0
A105: Table11 | B105: S1_102_KPU_TI_CUKUP | C105: Tingkat Kepuasan Pengguna Lulusan – Teknologi Informasi (% Cukup) | D105: ='Tabel 11'!E10 -> 0
A106: Table11 | B106: S1_103_KPU_TI_KURANG | C106: Tingkat Kepuasan Pengguna Lulusan – Teknologi Informasi (% Kurang) | D106: ='Tabel 11'!F10 -> 0
A107: Table11 | B107: S1_104_KPU_KOMUNIKASI_SANGAT_BAIK | C107: Tingkat Kepuasan Pengguna Lulusan – Komunikasi (% Sangat Baik) | D107: ='Tabel 11'!C11 -> 0
A108: Table11 | B108: S1_105_KPU_KOMUNIKASI_BAIK | C108: Tingkat Kepuasan Pengguna Lulusan – Komunikasi (% Baik) | D108: ='Tabel 11'!D11 -> 0
A109: Table11 | B109: S1_106_KPU_KOMUNIKASI_CUKUP | C109: Tingkat Kepuasan Pengguna Lulusan – Komunikasi (% Cukup) | D109: ='Tabel 11'!E11 -> 0
A110: Table11 | B110: S1_107_KPU_KOMUNIKASI_KURANG | C110: Tingkat Kepuasan Pengguna Lulusan – Komunikasi (% Kurang) | D110: ='Tabel 11'!F11 -> 0
A111: Table11 | B111: S1_108_KPU_KERJASAMA_SANGAT_BAIK | C111: Tingkat Kepuasan Pengguna Lulusan – Kerjasama (% Sangat Baik) | D111: ='Tabel 11'!C12 -> 0
A112: Table11 | B112: S1_109_KPU_KERJASAMA_BAIK | C112: Tingkat Kepuasan Pengguna Lulusan – Kerjasama (% Baik) | D112: ='Tabel 11'!D12 -> 0
A113: Table11 | B113: S1_110_KPU_KERJASAMA_CUKUP | C113: Tingkat Kepuasan Pengguna Lulusan – Kerjasama (% Cukup) | D113: ='Tabel 11'!E12 -> 0
A114: Table11 | B114: S1_111_KPU_KERJASAMA_KURANG | C114: Tingkat Kepuasan Pengguna Lulusan – Kerjasama (% Kurang) | D114: ='Tabel 11'!F12 -> 0
A115: Table11 | B115: S1_112_KPU_PENGDIRI_SANGAT_BAIK | C115: Tingkat Kepuasan Pengguna Lulusan – Pengembangan Diri (% Sangat Baik) | D115: ='Tabel 11'!C13 -> 0
A116: Table11 | B116: S1_113_KPU_PENGDIRI_BAIK | C116: Tingkat Kepuasan Pengguna Lulusan – Pengembangan Diri (% Baik) | D116: ='Tabel 11'!D13 -> 0
A117: Table11 | B117: S1_114_KPU_PENGDIRI_CUKUP | C117: Tingkat Kepuasan Pengguna Lulusan – Pengembangan Diri (% Cukup) | D117: ='Tabel 11'!E13 -> 0
A118: Table11 | B118: S1_115_KPU_PENGDIRI_KURANG | C118: Tingkat Kepuasan Pengguna Lulusan – Pengembangan Diri (% Kurang) | D118: ='Tabel 11'!F13 -> 0
A119: Table12 | B119: S1_116_NI_PENEL_LN | C119: NI : Jumlah penelitian dengan sumber pembiayaan luar negeri dalam 3 tahun terakhir | D119: ='Tabel 12'!F8 -> 0
A120: Table12 | B120: S1_117_NN_PENEL_DN | C120: NN : Jumlah penelitian dengan sumber pembiayaan dalam negeri dalam 3 tahun terakhir | D120: ='Tabel 12'!F7 -> 0
A121: Table12 | B121: S1_118_NL_PENEL_PT | C121: NL : Jumlah penelitian dengan sumber pembiayaan PT/mandiri dalam 3 tahun terakhir | D121: ='Tabel 12'!F6 -> 0
A122: Table13 | B122: S1_119_NPM | C122: NPM : Jumlah judul penelitian DTPS yang dalam pelaksanaannya melibatkan mahasiswa program studi dalam 3 tahun terakhir | D122: ='Tabel 13'!F47 -> 0
A123: Table14 | B123: S1_120_NPD | C123: NPD : Jumlah judul penelitian DTPS dalam 3 tahun terakhir
A124: Table14 | B124: S1_121_NA1 | C124: NA1 : Jumlah publikasi di jurnal nasional tidak terakreditasi
A125: Table14 | B125: S1_122_NA2 | C125: NA2 : Jumlah publikasi di jurnal nasional terakreditasi
A126: Table14 | B126: S1_123_NA3 | C126: NA3 : Jumlah publikasi di jurnal internasional
A127: Table14 | B127: S1_124_NA4 | C127: NA4 : Jumlah publikasi di jurnal internasional bereputasi
A128: Table14 | B128: S1_125_NB1 | C128: NB1 : Jumlah publikasi di seminar wilayah/lokal/PT
A129: Table14 | B129: S1_126_NB2 | C129: NB2 : Jumlah publikasi di seminar nasional
A130: Table14 | B130: S1_127_NB3 | C130: NB3 : Jumlah publikasi di seminar internasional
A131: Table14 | B131: S1_128_NC1 | C131: NC1 : Jumlah tulisan di media massa wilayah
A132: Table14 | B132: S1_129_NC2 | C132: NC2 : Jumlah tulisan di media massa nasional
A133: Table14 | B133: S1_130_NC3 | C133: NC3 : Jumlah tulisan di media massa internasional
A134: Table15 | B134: S1_131_NA_HKI_PATEN | C134: NA : Jumlah luaran penelitian/PkM yang mendapatkan pengakuan HKI (paten, paten sederhana)
... A137: Table15 | B137: S1_134_ND_BUKU | C137: ND : Jumlah luaran penelitian/PkM yang diterbitkan dalam bentuk Buku ber-ISBN, Book Chapter, artikel karya ilmiah
A138: Table16 | B138: S1_135_NAS_SITASI | C138: NAS : Jumlah judul artikel yang disitasi | D138: =SUM('Tabel 16'!D6:D25) -> 0
A139: Table18 | B139: S1_136_NPKMM | C139: NPkMM : Jumlah judul PkM DTPS yang dalam pelaksanaannya melibatkan mahasiswa program studi dalam 3 tahun terakhir | D139: =SUM('Tabel 18'!E6:E18) -> 0
A140: Table17 | B140: S1_137_NPKMD | C140: NPkMD : Jumlah judul PkM DTPS dalam 3 tahun terakhir | D140: ='Tabel 17'!F9 -> 0
A141: Table20 | B141: S1_138_N1_KERJASAMA_PENDIDIKAN | C141: N1 : Jumlah kerjasama pendidikan
...
